BEGIN:VCALENDAR
VERSION:2.0
PRODID:-//eventon.com NONSGML v1.0//EN
CALSCALE:GREGORIAN
METHOD:PUBLISH
BEGIN:VEVENT
UID:69e4ef0d9356d
DTSTAMP:20260419T150445Z
DTSTART:20220824T150000Z
DTEND:20220824T161500Z
LOCATION:
SUMMARY:DDIM.virtuell // Know-how – Der Manager als Marke
DESCRIPTION:&nbsp; Der Manager als Marke: Richtig sichtbar werden – und b
 leiben! Positionierung\,  Marktauftritt und laufendes Marketing. . Eine Bes
 onderheit im Interim Management: Der Zeitpunkt des Bedarfes beim Kunden dec
 kt sich i.d.R. nicht mit dem der Angebotspräsentation des Managers. Für d
 en Interim Manager resultiert die Notwendigkeit\,  dass er sich und sein[..
 ]\nhttps://ddim.de/events/ddim-virtuell-know-how-der-manager-als-marke/
URL:https://ddim.de/events/ddim-virtuell-know-how-der-manager-als-marke/
END:VEVENT
END:VCALENDAR