BEGIN:VCALENDAR
VERSION:2.0
PRODID:-//eventon.com NONSGML v1.0//EN
CALSCALE:GREGORIAN
METHOD:PUBLISH
BEGIN:VEVENT
UID:69e4d891ad692
DTSTAMP:20260419T132849Z
DTSTART:20220407T173000Z
DTEND:20220409T130000Z
LOCATION:Hotel tenHoopen Hotel tenHoopen\,  Zum Kurgarten 24\,  34414 Warburg-Germete
SUMMARY:Zwei Provider packen aus! Insider-Workshop für Ihre optimale Projektauslastung
DESCRIPTION:Zwei Provider packen aus! Insider-Workshop für Ihre optimale P
 rojektauslastung plus Individualfeedback &nbsp; Annette Elias und Thomas Sc
 hulz haben bereits mehrfach Workshops und Veranstaltungen moderiert und weg
 en der sehr positiven Resonanz auf die vergangenen Veranstaltungen wurde im
  Mai und Juni 2021 ein neues Format angeboten. Dabei ging es im Kern um[..]
 \nhttps://ddim.de/events/zwei-provider-packen-aus-insider-workshop-fuer-ihr
 e-optimale-projektauslastung-2/
URL:https://ddim.de/events/zwei-provider-packen-aus-insider-workshop-fuer-ihre-optimale-projektauslastung-2/
END:VEVENT
END:VCALENDAR