BEGIN:VCALENDAR
VERSION:2.0
PRODID:-//eventon.com NONSGML v1.0//EN
CALSCALE:GREGORIAN
METHOD:PUBLISH
BEGIN:VEVENT
UID:69e4c4d4dd76c
DTSTAMP:20260419T120436Z
DTSTART:20211111T145000Z
DTEND:20211111T154500Z
LOCATION:
SUMMARY:DDIM.virtuell // Online Seminar: Digitale Transformation – Einblicke & Perspektive des Bitkom e.V.
DESCRIPTION:&nbsp; Eine Veranstaltung der DDIM.fachgruppe // Digitalisierun
 g &amp; Industrie 4.0 &nbsp; Digitale Fähigkeiten sind mehr denn je gefrag
 t. Gerade die Pandemie hat uns den unmittelbaren Zusammenhang zwischen Digi
 talität und Krisenfestigkeit gezeigt: Je digitaler\,  desto krisenfester. 
 Damit Unternehmen künftige Krisen erfolgreich bewältigen können\,  gilt 
 es\,  ihre Widerstandskraft deutlich zu stärken. Denn[..]\nhttps://ddim.de
 /events/ddim-virtuell-online-seminar-digitale-transformation-einblicke-pers
 pektive-des-bitkom-e-v/
URL:https://ddim.de/events/ddim-virtuell-online-seminar-digitale-transformation-einblicke-perspektive-des-bitkom-e-v/
END:VEVENT
END:VCALENDAR