BEGIN:VCALENDAR
VERSION:2.0
PRODID:-//eventon.com NONSGML v1.0//EN
CALSCALE:GREGORIAN
METHOD:PUBLISH
BEGIN:VEVENT
UID:69e4c4f4cb087
DTSTAMP:20260419T120508Z
DTSTART:20210928T070000Z
DTEND:20210930T113000Z
LOCATION:
SUMMARY:DIGITAL FUTUREcongress
DESCRIPTION:DIGITAL FUTUREcongress [DFC] Die bundesweite Online-Kongressmes
 se für die Digitalisierung im Mittelstand vom 28. &#8211; 30.09.2021. Eine
  nationale interaktive Austausch- und Netzwerk-Plattform mit einem vielfäl
 tigen Webkonferenz-Programm. Diese Keynotes erwarten Sie: Dr. Martin-Niels 
 Däfler &#8211; Mehrfacher Buchautor und Keynote Speaker Lucia Falkenberg &
 #8211; Chief People Officer / Personalleitung New Work beim eco-Verband[..]
 \nhttps://ddim.de/events/digital-futurecongress/
URL:https://ddim.de/events/digital-futurecongress/
END:VEVENT
END:VCALENDAR