BEGIN:VCALENDAR
VERSION:2.0
PRODID:-//eventon.com NONSGML v1.0//EN
CALSCALE:GREGORIAN
METHOD:PUBLISH
BEGIN:VEVENT
UID:69e4d8fc663a1
DTSTAMP:20260419T133036Z
DTSTART:20211119
DTEND:20211120
LOCATION:Virtuell Zoom
SUMMARY:DDIM.kongress // 2021 [virtuell]
DESCRIPTION:DDIM.kongress // 2021 Auch in diesem Jahr führen wir den DDIM.
 kongress // 2021\,  das Branchenevent der Interim Management Branche in Deu
 tschland\,  wieder virtuell durch – dieses Mal in Kooperation mit dem For
 schungsinstitut für Rationalisierung (FIR) an der RWTH Aachen. Die Vorbere
 itungen für die Online-Veranstaltung laufen auf Hochtouren! Lassen Sie sic
 h[..]\nhttps://ddim.de/events/ddim-kongress-2021-virtuell/
URL:https://ddim.de/events/ddim-kongress-2021-virtuell/
END:VEVENT
END:VCALENDAR