BEGIN:VCALENDAR
VERSION:2.0
PRODID:-//eventon.com NONSGML v1.0//EN
CALSCALE:GREGORIAN
METHOD:PUBLISH
BEGIN:VEVENT
UID:69e4ef8be32cf
DTSTAMP:20260419T150651Z
DTSTART:20210924T160000Z
DTEND:20210924T200000Z
LOCATION:
SUMMARY:Der Chinesische Fünfjahresplan und seine Auswirkungen auf Unternehmen in Europa
DESCRIPTION:Eines der Hauptziele des Fünfjahresplanes der Regierung ist di
 e möglichst hohe Unabhängigkeit der eigenen Wirtschaft vom Ausland. Welch
 e Konsequenzen hat dies kurz- und mittelfristig für Europa? Die Veranstalt
 ung richtet sich an Inhaber und Geschäftsführer von Unternehmen\,  welche
  bereits in China tätig sind oder einen Markteintritt planen oder abhängi
 g von Lieferketten[..]\nhttps://ddim.de/events/der-chinesische-fuenfjahresp
 lan/
URL:https://ddim.de/events/der-chinesische-fuenfjahresplan/
END:VEVENT
END:VCALENDAR