BEGIN:VCALENDAR
VERSION:2.0
PRODID:-//eventon.com NONSGML v1.0//EN
CALSCALE:GREGORIAN
METHOD:PUBLISH
BEGIN:VEVENT
UID:69e5054105667
DTSTAMP:20260419T163929Z
DTSTART:20210601T160000Z
DTEND:20210601T170000Z
LOCATION:
SUMMARY:DDIM.virtuell // Überzeugende Videos für Interim Manager
DESCRIPTION:Überzeugende Videos für Interim Manager Videoinhalte auf den 
 Punkt\,  authentisch und schnell erstellen Videoinhalte werden in der Kommu
 nikation für Interim Manager immer wichtiger. Kurzvideos sind besonders g
 eeignet\,  um sich als Interim Manager professionell zu präsentieren und 
 neue Kundengruppen anzusprechen\,  Was gilt es bei der Erstellung von Video
 s zu beachten? Wie gelingt das[..]\nhttps://ddim.de/events/ueberzeugende-vi
 deos-fuer-interim-manager/
URL:https://ddim.de/events/ueberzeugende-videos-fuer-interim-manager/
END:VEVENT
END:VCALENDAR