BEGIN:VCALENDAR
VERSION:2.0
PRODID:-//eventon.com NONSGML v1.0//EN
CALSCALE:GREGORIAN
METHOD:PUBLISH
BEGIN:VEVENT
UID:69e4ef1e9850e
DTSTAMP:20260419T150502Z
DTSTART:20210505T160000Z
DTEND:20210505T170000Z
LOCATION:
SUMMARY:DDIM.virtuell // Künstliche Intelligenz in der industriellen Anwendung: Daten Produkte statt Daten Projekte
DESCRIPTION:. Künstliche Intelligenz in der industriellen Anwendung: Daten
  Produkte statt Daten Projekte &nbsp; Hallo Zukunft! Im Zuge der Digitalisi
 erung fallen beachtliche Datenmengen an\,  die enormes Potenzial bieten\,  
 um die Qualität und Prozesse rund um die Bereitstellung von Dienstleistung
 en und die Fertigung von Produkten zu optimieren. Um das Datenpotenzial vol
 lständig auszuschöpfen\, [..]\nhttps://ddim.de/events/ddim-virtuell-kuens
 tliche-intelligenz-in-der-industriellen-anwendung-daten-produkte-statt-date
 n-projekte/
URL:https://ddim.de/events/ddim-virtuell-kuenstliche-intelligenz-in-der-industriellen-anwendung-daten-produkte-statt-daten-projekte/
END:VEVENT
END:VCALENDAR