BEGIN:VCALENDAR
VERSION:2.0
PRODID:-//eventon.com NONSGML v1.0//EN
CALSCALE:GREGORIAN
METHOD:PUBLISH
BEGIN:VEVENT
UID:69e4d93404657
DTSTAMP:20260419T133132Z
DTSTART:20210518T160000Z
DTEND:20210518T170000Z
LOCATION:
SUMMARY:DDIM.virtuell // Newcomer Session für Interessierte und Neumitglieder
DESCRIPTION:DDIM Newcomer Session Das Newcomer Treffen bietet Neumitglieder
 n und Interessenten die Möglichkeit\,  sich unverbindlich über die DDIM u
 nd ihre Leistungen zu informieren. Nach einem kurzen Einführungsvortrag we
 rden offene Fragen beantwortet. Neue Mitglieder können hier erste Kontakte
  zu neuen Kollegen und DDIM Mitgliedern knüpfen. Nutzen Sie das Angebot! D
 ie DDIM Vorstandsmitglieder[..]\nhttps://ddim.de/events/newcomer-session/
URL:https://ddim.de/events/newcomer-session/
END:VEVENT
END:VCALENDAR