BEGIN:VCALENDAR
VERSION:2.0
PRODID:-//eventon.com NONSGML v1.0//EN
CALSCALE:GREGORIAN
METHOD:PUBLISH
BEGIN:VEVENT
UID:69e4c4b12cf13
DTSTAMP:20260419T120401Z
DTSTART:20210429T154500Z
DTEND:20210429T190000Z
LOCATION:
SUMMARY:Einsatz von Persönlichkeits-Profilanalysen (PPA)
DESCRIPTION:. Das wahre Potenzial in Menschen erkennen &nbsp; Je besser man
  sich und sein Gegenüber kennt\,  um so erfolgreicher gestaltet sich die Z
 usammenarbeit. Personal Profile Analysis (PPA) bietet einen schnellen und 
 umfassenden Einblick in die Verhaltenspräferenzen und den Kommunikationsst
 il einer Person. Der VRIM lädt hierzu zu einem online Vortrag ein: EINSATZ
 [..]\nhttps://ddim.de/events/einsatz-von-persoenlichkeits-profilanalysen-pp
 a/
URL:https://ddim.de/events/einsatz-von-persoenlichkeits-profilanalysen-ppa/
END:VEVENT
END:VCALENDAR