BEGIN:VCALENDAR
VERSION:2.0
PRODID:-//eventon.com NONSGML v1.0//EN
CALSCALE:GREGORIAN
METHOD:PUBLISH
BEGIN:VEVENT
UID:69e4d4375bb59
DTSTAMP:20260419T131015Z
DTSTART:20210624
DTEND:20210625
LOCATION:Steigenberger Grandhotel Petersberg Steigenberger Grandhotel Petersberg\,  53639 Königswinter
SUMMARY:9. Turnaroundkongress 2021
DESCRIPTION:Turnaroundkongress 2021 Krise als Katalysator Treiber oder Getr
 iebener &nbsp; Wie Mittelständler mit neuen Geschäftsmodellen zwischen Di
 gitalisierung und Datenschutz ihre Zukunft gestalten. Ausgewiesen erfahrene
  Praktiker stellen als Referenten die Chancen und Risiken neuer Technologie
 n für wirtschaftliche Prozesse vor. Sie liefern Beispiele\,  wie neue Tool
 s vor Krisen schützen können. Aber auch\,  wo[..]\nhttps://ddim.de/events
 /9-turnaroundkongress-2021/
URL:https://ddim.de/events/9-turnaroundkongress-2021/
END:VEVENT
END:VCALENDAR