BEGIN:VCALENDAR
VERSION:2.0
PRODID:-//eventon.com NONSGML v1.0//EN
CALSCALE:GREGORIAN
METHOD:PUBLISH
BEGIN:VEVENT
UID:69e4eb8f4e659
DTSTAMP:20260419T144951Z
DTSTART:20210622T063000Z
DTEND:20210625T123000Z
LOCATION:Digital Edition 2021
SUMMARY:Handelsblatt Jahrestagung Restrukturierung - Digital Edition 2021
DESCRIPTION:Handelsblatt Jahrestagung Restrukturierung 2021 Digital Edition
 . &nbsp; 22. bis 25. Juni 2021 Die Coronakrise hinterlässt ihre Spuren in 
 der deutschen Wirtschaft und damit auch in der aktuellen Restrukturierungsl
 andschaft. Wir brauchen eine neue Roadmap für Regionen\,  Innenstädte\,  
 Büros und den Handel. Außerdem steht die Zukunft von Tourismus\,  Hospita
 lity und Gastronomie auf[..]\nhttps://ddim.de/events/handelsblatt-jahrestag
 ung-restrukturierung-digital-edition-2021/
URL:https://ddim.de/events/handelsblatt-jahrestagung-restrukturierung-digital-edition-2021/
END:VEVENT
END:VCALENDAR