BEGIN:VCALENDAR
VERSION:2.0
PRODID:-//eventon.com NONSGML v1.0//EN
CALSCALE:GREGORIAN
METHOD:PUBLISH
BEGIN:VEVENT
UID:69e50140699fd
DTSTAMP:20260419T162224Z
DTSTART:20210413T100000Z
DTEND:20210413T110000Z
LOCATION:
SUMMARY:How Covid Changed Everything: Workforce and Workplace
DESCRIPTION:. The IIM (Institute of Interim Management)\,  in conjunction w
 ith Interim Partners\,  now New Street Consulting Group\,  are pleased to a
 nnounce their joint presentation of this Webinar\,  under the above theme. 
 How Covid Changed Everything: Workforce and Workplace &nbsp; The COVID-19 p
 andemic has unleashed a new era for business\,  causing[..]\nhttps://ddim.d
 e/events/how-covid-changed-everything-workforce-and-workplace/
URL:https://ddim.de/events/how-covid-changed-everything-workforce-and-workplace/
END:VEVENT
END:VCALENDAR