BEGIN:VCALENDAR
VERSION:2.0
PRODID:-//eventon.com NONSGML v1.0//EN
CALSCALE:GREGORIAN
METHOD:PUBLISH
BEGIN:VEVENT
UID:69e4d46ebe4e1
DTSTAMP:20260419T131110Z
DTSTART:20201001T150000Z
DTEND:20201001T163000Z
LOCATION:
SUMMARY:DDIM.virtuell // Online Seminar: Hurra\,  ein Konflikt! Konfliktmanagement in Insolvenz und Sanierung
DESCRIPTION:. Dieses Webinar ist exklusiv für Mitglieder und Partner der D
 DIM. Die Einwahldaten erhalten die Mitglieder separat per Email. . Hurra\, 
  ein Konflikt! Konfliktmanagement in Insolvenz und Sanierung Der gelungene 
 Einsatz von Mediationstechniken . Widerstreitende Positionen\,  eskalierte/
 eskalierende Konflikte und vorurteilsbehaftetes Handeln – viel zu oft sch
 eitern Sanierungs- und Insolvenzverfahren nicht[..]\nhttps://ddim.de/events
 /ddim-virtuell-hurra-ein-konflikt-konfliktmanagement-in-insolvenz-und-sanie
 rung/
URL:https://ddim.de/events/ddim-virtuell-hurra-ein-konflikt-konfliktmanagement-in-insolvenz-und-sanierung/
END:VEVENT
END:VCALENDAR