BEGIN:VCALENDAR
VERSION:2.0
PRODID:-//eventon.com NONSGML v1.0//EN
CALSCALE:GREGORIAN
METHOD:PUBLISH
BEGIN:VEVENT
UID:69e4ef4811db3
DTSTAMP:20260419T150544Z
DTSTART:20200928T150000Z
DTEND:20200928T163000Z
LOCATION:
SUMMARY:DDIM.virtuell // Online Seminar: Grundlagen und Gestaltungsmöglichkeiten eines  Insolvenzplans - Was erwartet das Gericht\,  wie kann ich gestalten?
DESCRIPTION:. Dieses Webinar ist exklusiv für Mitglieder und Partner der D
 DIM. Die Einwahldaten erhalten die Mitglieder separat per Email. . Grundlag
 en und Gestaltungsmöglichkeiten eines  Insolvenzplans &#8211; Was erwarte
 t das Gericht\,  wie kann ich gestalten? &nbsp; Grundlagen Was ist ein Inso
 lvenzplan Darstellung der Verknüpfung von Eigenverwaltung und Insolvenzpla
 n . Strukturen eines[..]\nhttps://ddim.de/events/ddim-virtuell-grundlagen-u
 nd-gestaltungsmoeglichkeiten-eines-insolvenzplans-was-erwartet-das-gericht-
 wie-kann-ich-gestalten-2/
URL:https://ddim.de/events/ddim-virtuell-grundlagen-und-gestaltungsmoeglichkeiten-eines-insolvenzplans-was-erwartet-das-gericht-wie-kann-ich-gestalten-2/
END:VEVENT
END:VCALENDAR