BEGIN:VCALENDAR
VERSION:2.0
PRODID:-//eventon.com NONSGML v1.0//EN
CALSCALE:GREGORIAN
METHOD:PUBLISH
BEGIN:VEVENT
UID:69e5056b86e1b
DTSTAMP:20260419T164011Z
DTSTART:20200930T150000Z
DTEND:20200930T163000Z
LOCATION:
SUMMARY:DDIM.virtuell // Online Seminar: Auswirkungen und Perspektiven der COVID19 Pandemie auf das Insolvenz- und Sanierungsrecht
DESCRIPTION:. Dieses Webinar ist exklusiv für Mitglieder und Partner der D
 DIM. Die Einwahldaten erhalten die Mitglieder separat per Email. . Auswirku
 ngen und Perspektiven der COVID19 Pandemie auf das Insolvenz- und Sanierung
 srecht Das Jahr 2020 ist für die gesamte Gesellschaft und insbesondere die
  Wirtschaft ein Besonderes. Durch die Pandemie „Covid19“ sind[..]\nhttp
 s://ddim.de/events/ddim-virtuell-auswirkungen-und-perspektiven-der-covid19-
 pandemie-auf-das-insolvenz-und-sanierungsrecht/
URL:https://ddim.de/events/ddim-virtuell-auswirkungen-und-perspektiven-der-covid19-pandemie-auf-das-insolvenz-und-sanierungsrecht/
END:VEVENT
END:VCALENDAR