BEGIN:VCALENDAR
VERSION:2.0
PRODID:-//eventon.com NONSGML v1.0//EN
CALSCALE:GREGORIAN
METHOD:PUBLISH
BEGIN:VEVENT
UID:69e521dc25a9d
DTSTAMP:20260419T184132Z
DTSTART:20200907T150000Z
DTEND:20200907T163000Z
LOCATION:
SUMMARY:DDIM.virtuell // Online Seminar: Sanierungsrecht 2020
DESCRIPTION:. Dieses Webinar ist exklusiv für Mitglieder und Partner der D
 DIM. Die Einwahldaten erhalten die Mitglieder separat per Email. . Sanierun
 gsrecht 2020- Sanierungsrechtliche Instrumente im Lichte der ESUG Evaluatio
 n und der präventiven Restrukturierung Im zweiten Halbjahr des Jahres 2017
  wurde die ESUG Evaluation durch eine Gutachtergruppe für das BMJV durchge
 führt[..]\nhttps://ddim.de/events/ddim-virtuell-sanierungsrecht-2020/
URL:https://ddim.de/events/ddim-virtuell-sanierungsrecht-2020/
END:VEVENT
END:VCALENDAR