BEGIN:VCALENDAR
VERSION:2.0
PRODID:-//eventon.com NONSGML v1.0//EN
CALSCALE:GREGORIAN
METHOD:PUBLISH
BEGIN:VEVENT
UID:69e5363137476
DTSTAMP:20260419T200817Z
DTSTART:20200831T150000Z
DTEND:20200831T163000Z
LOCATION:
SUMMARY:DDIM.virtuell // Online Seminar: Grundlagen des Insolvenzrechts
DESCRIPTION:. Dieses Webinar ist exklusiv für Mitglieder und Partner der D
 DIM. Die Einwahldaten erhalten die Mitglieder separat per Email. . Es werde
 n folgende Themen behandelt: Grundlagen des Insolvenzrechts Beteiligte des 
 Insolvenzverfahrens Auswahl des Insolvenzverwalters Antragsstellung: Fremda
 ntrag und Eigenantrag Sicherungsmaßnahmen Abgrenzung Insolvenzverbindlichk
 eit zu Masseverbindlichkeit Wirkungen der Insolvenz auf andere Rechtsverhä
 ltnisse Wirkungen[..]\nhttps://ddim.de/events/ddim-virtuell-grundlagen-des-
 insolvenzrechts/
URL:https://ddim.de/events/ddim-virtuell-grundlagen-des-insolvenzrechts/
END:VEVENT
END:VCALENDAR