BEGIN:VCALENDAR
VERSION:2.0
PRODID:-//eventon.com NONSGML v1.0//EN
CALSCALE:GREGORIAN
METHOD:PUBLISH
BEGIN:VEVENT
UID:69e54d493df95
DTSTAMP:20260419T214649Z
DTSTART:20201023T103000Z
DTEND:20201024T130000Z
LOCATION:The Hearts Hotel The Hearts Hotel\,  Am Jermerstein 17\,  38700 Braunlage
SUMMARY:Zwei Provider packen aus! Insider-Workshop für Ihre optimale Projektauslastung
DESCRIPTION:Zwei Provider packen aus! Insider-Workshop für Ihre optimale P
 rojektauslastung &nbsp; In den heutigen (Post?) Corona-Zeiten wächst das B
 edürfnis nach physischem Austausch und nach der persönlichen Begegnung. A
 rbeit im Homeoffice hat sich zwar sehr effizient gezeigt\,  aber der persö
 nliche Austausch bleibt elementar. Und in wirtschaftlich herausfordernden Z
 eiten ist es besonders wichtig\, [..]\nhttps://ddim.de/events/zwei-provider
 -packen-aus-insider-workshop-fuer-ihre-optimale-projektauslastung/
URL:https://ddim.de/events/zwei-provider-packen-aus-insider-workshop-fuer-ihre-optimale-projektauslastung/
END:VEVENT
END:VCALENDAR