BEGIN:VCALENDAR
VERSION:2.0
PRODID:-//eventon.com NONSGML v1.0//EN
CALSCALE:GREGORIAN
METHOD:PUBLISH
BEGIN:VEVENT
UID:69e563c7d415a
DTSTAMP:20260419T232247Z
DTSTART:20200604T140000Z
DTEND:20200604T153000Z
LOCATION:
SUMMARY:DDIM.virtuell // Webinar: So starten Sie als Interim Manager mit LinkedIn durch
DESCRIPTION:Dieses Webinar ist exklusiv für Mitglieder und Partner der DDI
 M. Die Einwahldaten erhalten die Mitglieder  separat per Email. &nbsp; Lin
 kedIn wird in Deutschland immer wichtiger. Mit über 14 Millionen Kontakten
  im deutschsprachigen Raum liegt LinkedIn mit XING fast gleichauf. Doch wie
  nutzt man LinkedIn? Wo liegen die Unterschiede zu XING?[..]\nhttps://ddim.
 de/events/ddim-virtuell-webinar-so-starten-sie-als-interim-manager-mit-link
 edin-durch-2/
URL:https://ddim.de/events/ddim-virtuell-webinar-so-starten-sie-als-interim-manager-mit-linkedin-durch-2/
END:VEVENT
END:VCALENDAR