BEGIN:VCALENDAR
VERSION:2.0
PRODID:-//eventon.com NONSGML v1.0//EN
CALSCALE:GREGORIAN
METHOD:PUBLISH
BEGIN:VEVENT
UID:69e58d555bcd9
DTSTAMP:20260420T022005Z
DTSTART:20200603T155000Z
DTEND:20200603T183000Z
LOCATION:
SUMMARY:AUSGEBUCHT! DDIM.virtuell // Webinar: Wenn die Krise da ist - Krisenmanagement und Kommunikation in extremen Situationen
DESCRIPTION:Dieses Webinar ist leider ausgebucht! &nbsp; In der Krise ist s
 chnelles Handeln gefragt &#8211; ohne Überblick und Weitsicht zu verlieren
 . Im interaktiven Webinar zeigen die krisenerfahrenen Experten Arne Wölper
  und Claudia Wagner\,  worauf es in Krisen in Bezug auf Prioritäten\,  Kom
 munikation und Führung ankommt. Der Workshop von Managern für Manager[..]
 \nhttps://ddim.de/events/ddim-virtuell-webinar-wenn-die-krise-da-ist-krisen
 management-und-kommunikation-in-extremen-situationen-2/
URL:https://ddim.de/events/ddim-virtuell-webinar-wenn-die-krise-da-ist-krisenmanagement-und-kommunikation-in-extremen-situationen-2/
END:VEVENT
END:VCALENDAR