BEGIN:VCALENDAR
VERSION:2.0
PRODID:-//eventon.com NONSGML v1.0//EN
CALSCALE:GREGORIAN
METHOD:PUBLISH
BEGIN:VEVENT
UID:69e5a69154d8b
DTSTAMP:20260420T040745Z
DTSTART:20200515T080000Z
DTEND:20200515T093000Z
LOCATION:
SUMMARY:Webinar-Woche Interim Profis: Führen in der Krise
DESCRIPTION:Führen in der Krise Wie schaffe ich es als Führungskraft\,  
 souverän\,  authentisch und wahrhaftig in ungewissen Zeiten meine Mitarbe
 iter zu führen? Mit eigenen Ängsten und Unsicherheiten kraftvoll umzuge
 hen? Die Situation sogar wahrhaftig als Lernfeld und als Meisterschaft zu v
 erstehen? In diesem 90 minütigen Webinar gibt uns dazu Jamila Vidas inter
 aktive[..]\nhttps://ddim.de/events/webinar-woche-interim-profis-fuehren-in-
 der-krise/
URL:https://ddim.de/events/webinar-woche-interim-profis-fuehren-in-der-krise/
END:VEVENT
END:VCALENDAR