BEGIN:VCALENDAR
VERSION:2.0
PRODID:-//eventon.com NONSGML v1.0//EN
CALSCALE:GREGORIAN
METHOD:PUBLISH
BEGIN:VEVENT
UID:69e4c4d5c7b98
DTSTAMP:20260419T120437Z
DTSTART:20200512T150000Z
DTEND:20200512T160000Z
LOCATION:
SUMMARY:DDIM.virtuell // Webinar: Marketing für Interim Manager
DESCRIPTION:Dieses Webinar ist exklusiv für Mitglieder und Partner der DDI
 M. Die Einwahldaten erhalten die Mitglieder ein einem separaten Mailing zug
 esandt. Mit forma interim – Marketing für Macher berät unser Assoziiert
 er Partner\,  Malte Borchardt (Move Project)\,  Interim Managerinnen und In
 terim Manager in den Themen Positionierung\,  Marktauftritt und Marktbearbe
 itung. „When will I\, [..]\nhttps://ddim.de/events/ddim-virtuell-webinar-
 marketing-fuer-interim-manager/
URL:https://ddim.de/events/ddim-virtuell-webinar-marketing-fuer-interim-manager/
END:VEVENT
END:VCALENDAR