BEGIN:VCALENDAR
VERSION:2.0
PRODID:-//eventon.com NONSGML v1.0//EN
CALSCALE:GREGORIAN
METHOD:PUBLISH
BEGIN:VEVENT
UID:69e4c48a2d848
DTSTAMP:20260419T120322Z
DTSTART:20190919T160000Z
DTEND:20190919T193000Z
LOCATION:Design Offices Frankfurt Wiesenhüttenplatz Design Offices  Frankfurt Wiesenhüttenplatz\,  Wiesenhüttenplatz 25\,  60329 Frankfurt am Main
SUMMARY:DDIM.regional // Rhein-Main
DESCRIPTION:40 Tipps für den Erfolg im Interim Management &nbsp; Ein Abend
  – 40 Tipps für mehr Erfolg im Interim Management. Lassen Sie sich aus e
 rster Hand inspirieren: Bei dieser DDIM.regional Veranstaltung teilen 4 ass
 oziierte DDIM-Provider das geballte Wissen aus ihrer langjährigen Vermittl
 ungstätigkeit. Führende Vertreter der Interim Provider präsentieren ihre
  Top[..]\nhttps://ddim.de/events/ddim-regional-rhein-main/
URL:https://ddim.de/events/ddim-regional-rhein-main/
END:VEVENT
END:VCALENDAR