BEGIN:VCALENDAR
VERSION:2.0
PRODID:-//eventon.com NONSGML v1.0//EN
CALSCALE:GREGORIAN
METHOD:PUBLISH
BEGIN:VEVENT
UID:69e4e80deeadb
DTSTAMP:20260419T143453Z
DTSTART:20200513T180000Z
DTEND:20200513T184500Z
LOCATION:
SUMMARY:DDIM.virtuell // Webinar: Einführung in Unternehmens Quick Check "SystemScan"
DESCRIPTION:Dieses Webinar ist exklusiv für Mitglieder und Partner der DDI
 M. Die Einwahldaten erhalten die Mitglieder ein einem separaten Mailing zug
 esandt. Dr. Werner Boysen gibt in diesem Webinar einen Einblick in das durc
 h ihn entwickelte Tool zum Unternehms Quick Check &#8222;System Scan&#8220;
 . Zielgruppe Dieses Webinar richtet sich an alle Interim-Manager und[..]\nh
 ttps://ddim.de/events/ddim-virtuell-webinar-einfuehrung-in-unternehmens-qui
 ck-check-systemscan/
URL:https://ddim.de/events/ddim-virtuell-webinar-einfuehrung-in-unternehmens-quick-check-systemscan/
END:VEVENT
END:VCALENDAR