BEGIN:VCALENDAR
VERSION:2.0
PRODID:-//eventon.com NONSGML v1.0//EN
CALSCALE:GREGORIAN
METHOD:PUBLISH
BEGIN:VEVENT
UID:69e4ef0d8ec8f
DTSTAMP:20260419T150445Z
DTSTART:20180921T070000Z
DTEND:20180921T150000Z
LOCATION:Buchalik Brömmekamp Rechtsanwaltsgesellschaft mbH Buchalik Brömmekamp Rechtsanwaltsgesellschaft mbH\,  Prinzenallee 15\,  40549 Düsseldorf
SUMMARY:BV ESUG Seminar - Insolvenzplan
DESCRIPTION:Der Bundesverband ESUG und Sanierung Deutschland e.V. (kurz: BV
  ESUG) bietet wieder interessante Seminarblöcke mit aktuellen Themen zur I
 nsolvenz und Eigenverwaltung an. Als Referenten konnten hochkarätige Fachl
 eute gewonnen werden\,  die von ihren reichhaltigen Erfahrungen aus der Pra
 xis berichten und Wege aufzeigen\,  wie mittelständige Unternehmen innerha
 lb und außerhalb der Krise auf[..]\nhttps://ddim.de/events/bv-esug-seminar
 -insolvenzplan/
URL:https://ddim.de/events/bv-esug-seminar-insolvenzplan/
END:VEVENT
END:VCALENDAR