BEGIN:VCALENDAR
VERSION:2.0
PRODID:-//eventon.com NONSGML v1.0//EN
CALSCALE:GREGORIAN
METHOD:PUBLISH
BEGIN:VEVENT
UID:69e505b65dc66
DTSTAMP:20260419T164126Z
DTSTART:20180831T070000Z
DTEND:20180901T160000Z
LOCATION:Interim Profis GmbH Interim Profis GmbH
SUMMARY:Verhandlungstraining für Interim Manager
DESCRIPTION:„Sie bekommen nicht\,  was Sie verdienen &#8211; Sie bekommen
 \,  was Sie verhandeln!“ das ist der Ansatz von Jörg Schneider\,  einem 
 der erfolgreichsten Trainer für effektive Kommunikation\,  professionelle 
 Gespräche und Verhandlungsführung. Die Interim Profis [Assoziierter DDIM
  Provider] laden am 31.08. &amp; 01.09. exklusiv zu einem zweitägigen Verh
 andlungstraining mit Jörg Schneider ein. Jörg[..]\nhttps://ddim.de/events
 /verhandlungstraining-fuer-interim-manager/
URL:https://ddim.de/events/verhandlungstraining-fuer-interim-manager/
END:VEVENT
END:VCALENDAR