BEGIN:VCALENDAR
VERSION:2.0
PRODID:-//eventon.com NONSGML v1.0//EN
CALSCALE:GREGORIAN
METHOD:PUBLISH
BEGIN:VEVENT
UID:69e6730eb5766
DTSTAMP:20260420T184014Z
DTSTART:20180914T110000Z
DTEND:20180914T160000Z
LOCATION:Würth Haus Rorschach Churerstrasse 10\,  CH-9400 Rorschach\,  Schweiz
SUMMARY:5 Jahre VRIM - Jubiläumsveranstaltung
DESCRIPTION:5 Jahre VRIM &#8211; Einladung zur Jubiläumsveranstaltung am 1
 4.09.18 Zum 5-jährigen Bestehen des Verbandes Rheintal Interim (VRIM) orga
 nisiert der VRIM &#8211; mit Unterstützung der Partnerverbände DSIM\,  DD
 IM und DÖIM – eine Jubiläums-Veranstaltung zum Thema „Erfolgreiche Ak
 quisitionskanäle für Interim Manager und selbstständige Unternehmensbera
 ter“. Das Treffen findet statt am 14. September 2018[..]\nhttps://ddim.de
 /events/5-jahre-vrim-jubilaeumsveranstaltung/
URL:https://ddim.de/events/5-jahre-vrim-jubilaeumsveranstaltung/
END:VEVENT
END:VCALENDAR