BEGIN:VCALENDAR
VERSION:2.0
PRODID:-//eventon.com NONSGML v1.0//EN
CALSCALE:GREGORIAN
METHOD:PUBLISH
BEGIN:VEVENT
UID:69e61f945f9bb
DTSTAMP:20260420T124404Z
DTSTART:20200306T163000Z
DTEND:20200306T200000Z
LOCATION:Handelskammer Hamburg Handelskammer Hamburg\,  Adolphsplatz 1\,  20457 Hamburg
SUMMARY:DDIM.regional // Norddeutschland
DESCRIPTION:Thema: KrisenbewÃ¤ltigung / Fliegen und FÃ¼hren. &nbsp; Unter d
 em Thema â€žKrisenbewÃ¤ltigung / Fliegen und FÃ¼hren&#8220; findet am 6. MÃ
 ¤rz 2020 die nÃ¤chste DDIM.regional//Norddeutschland in Hamburg statt. Wir 
 freuen uns auf zwei interessante Referenten. Roland Kordt [Dipl. Kaufm.] wi
 rd Ã¼ber die folgenden zwei Themen berichten und gemeinsam mit den Teilnehm
 ern in[..]\nhttps://ddim.de/events/ddim-regional-norddeutschland/
URL:https://ddim.de/events/ddim-regional-norddeutschland/
END:VEVENT
END:VCALENDAR